BEGIN:VCALENDAR
VERSION:2.0
PRODID:-//AIA Winston-Salem - ECPv6.3.1//NONSGML v1.0//EN
CALSCALE:GREGORIAN
METHOD:PUBLISH
X-ORIGINAL-URL:https://www.aiawinstonsalem.org
X-WR-CALDESC:Events for AIA Winston-Salem
REFRESH-INTERVAL;VALUE=DURATION:PT1H
X-Robots-Tag:noindex
X-PUBLISHED-TTL:PT1H
BEGIN:VTIMEZONE
TZID:America/New_York
BEGIN:DAYLIGHT
TZOFFSETFROM:-0500
TZOFFSETTO:-0400
TZNAME:EDT
DTSTART:20210314T070000
END:DAYLIGHT
BEGIN:STANDARD
TZOFFSETFROM:-0400
TZOFFSETTO:-0500
TZNAME:EST
DTSTART:20211107T060000
END:STANDARD
END:VTIMEZONE
BEGIN:VEVENT
DTSTART;TZID=America/New_York:20210928T120000
DTEND;TZID=America/New_York:20210928T130000
DTSTAMP:20260423T171016
CREATED:20210908T151321Z
LAST-MODIFIED:20210908T151321Z
UID:1368-1632830400-1632834000@www.aiawinstonsalem.org
SUMMARY:AIA WS | Lunch and Learn
DESCRIPTION:Join us IN PERSON for a Lunch and Learn\, presented by TBD.
URL:https://www.aiawinstonsalem.org/event/aia-ws-lunch-and-learn/
LOCATION:NC
CATEGORIES:AIA Winston-Salem,Lunch & Learn
ATTACH;FMTTYPE=image/jpeg:https://www.aiawinstonsalem.org/wp-content/uploads/2020/06/Lunch-and-Learn-02.jpg
ORGANIZER;CN="AIA Winston-Salem":MAILTO:president@aiawinstonsalem.org
END:VEVENT
END:VCALENDAR