BEGIN:VCALENDAR
VERSION:2.0
PRODID:-//AIA Winston-Salem - ECPv6.3.1//NONSGML v1.0//EN
CALSCALE:GREGORIAN
METHOD:PUBLISH
X-ORIGINAL-URL:https://www.aiawinstonsalem.org
X-WR-CALDESC:Events for AIA Winston-Salem
REFRESH-INTERVAL;VALUE=DURATION:PT1H
X-Robots-Tag:noindex
X-PUBLISHED-TTL:PT1H
BEGIN:VTIMEZONE
TZID:America/New_York
BEGIN:DAYLIGHT
TZOFFSETFROM:-0500
TZOFFSETTO:-0400
TZNAME:EDT
DTSTART:20220313T070000
END:DAYLIGHT
BEGIN:STANDARD
TZOFFSETFROM:-0400
TZOFFSETTO:-0500
TZNAME:EST
DTSTART:20221106T060000
END:STANDARD
END:VTIMEZONE
BEGIN:VEVENT
DTSTART;VALUE=DATE:20220622
DTEND;VALUE=DATE:20220626
DTSTAMP:20260423T044554
CREATED:20221116T161442Z
LAST-MODIFIED:20221116T161442Z
UID:1782-1655856000-1656201599@www.aiawinstonsalem.org
SUMMARY:AIA National Conference on Architecture
DESCRIPTION:In 2022\, the architecture and design event of the year returns to Chicago. With the city as our backdrop\, we’ll explore architecture’s ability to drive new thinking in one of the most design-forward\, sustainable cities in the U.S.
URL:https://www.aiawinstonsalem.org/event/aia-national-conference-on-architecture/
LOCATION:NC
CATEGORIES:AIA National,Conference
ATTACH;FMTTYPE=image/jpeg:https://www.aiawinstonsalem.org/wp-content/uploads/2022/11/a22-banner.jpg
END:VEVENT
END:VCALENDAR