BEGIN:VCALENDAR
VERSION:2.0
PRODID:-//AIA Winston-Salem - ECPv6.3.1//NONSGML v1.0//EN
CALSCALE:GREGORIAN
METHOD:PUBLISH
X-WR-CALNAME:AIA Winston-Salem
X-ORIGINAL-URL:https://www.aiawinstonsalem.org
X-WR-CALDESC:Events for AIA Winston-Salem
REFRESH-INTERVAL;VALUE=DURATION:PT1H
X-Robots-Tag:noindex
X-PUBLISHED-TTL:PT1H
BEGIN:VTIMEZONE
TZID:America/New_York
BEGIN:DAYLIGHT
TZOFFSETFROM:-0500
TZOFFSETTO:-0400
TZNAME:EDT
DTSTART:20230312T070000
END:DAYLIGHT
BEGIN:STANDARD
TZOFFSETFROM:-0400
TZOFFSETTO:-0500
TZNAME:EST
DTSTART:20231105T060000
END:STANDARD
END:VTIMEZONE
BEGIN:VEVENT
DTSTART;VALUE=DATE:20230910
DTEND;VALUE=DATE:20230913
DTSTAMP:20260422T051042
CREATED:20230216T153738Z
LAST-MODIFIED:20230216T153738Z
UID:1884-1694304000-1694563199@www.aiawinstonsalem.org
SUMMARY:ASPIRE Conference
DESCRIPTION:Hosted by the AIA state components of Georgia\, North Carolina\, and South Carolina\, Aspire gathers the built community to learn\, collaborate\, and find inspiration to design the future. During the three-day conference\, attendees set out to immerse in the city’s vibrant culture\, network\, and engage with some of the brightest minds in design.
URL:https://www.aiawinstonsalem.org/event/aspire-conference/
LOCATION:Asheville\, North Carolina\, Asheville\, NC\, United States
CATEGORIES:AIA South Atlantic,Conference
ATTACH;FMTTYPE=image/jpeg:https://www.aiawinstonsalem.org/wp-content/uploads/2021/04/ASPIRE-event-header.jpg
END:VEVENT
END:VCALENDAR