BEGIN:VCALENDAR
VERSION:2.0
PRODID:-//AIA Winston-Salem - ECPv6.3.1//NONSGML v1.0//EN
CALSCALE:GREGORIAN
METHOD:PUBLISH
X-ORIGINAL-URL:https://www.aiawinstonsalem.org
X-WR-CALDESC:Events for AIA Winston-Salem
REFRESH-INTERVAL;VALUE=DURATION:PT1H
X-Robots-Tag:noindex
X-PUBLISHED-TTL:PT1H
BEGIN:VTIMEZONE
TZID:America/New_York
BEGIN:DAYLIGHT
TZOFFSETFROM:-0500
TZOFFSETTO:-0400
TZNAME:EDT
DTSTART:20240310T070000
END:DAYLIGHT
BEGIN:STANDARD
TZOFFSETFROM:-0400
TZOFFSETTO:-0500
TZNAME:EST
DTSTART:20241103T060000
END:STANDARD
END:VTIMEZONE
BEGIN:VEVENT
DTSTART;TZID=America/New_York:20240227T120000
DTEND;TZID=America/New_York:20240227T130000
DTSTAMP:20260421T194210
CREATED:20240207T174105Z
LAST-MODIFIED:20240207T174105Z
UID:2109-1709035200-1709038800@www.aiawinstonsalem.org
SUMMARY:Lunch & Learn | Transforming Indoor Environments into Healthy Places
DESCRIPTION:Join us for an HSW-credited presentation from Zaniboni Lighting!\nStep into a world where architecture meets well-being. Join us in this AIA presentation as we explore the transformative power of healthy buildings\, unraveling the impact of indoor environments on our senses and attention. Discover the key elements of designing spaces that harmonize with our natural inclinations\, promoting not just physical health but also mental and emotional well-being. Learn how to redefine 21st-century spaces that nurture and engage our senses. \nLearning Objectives:\n\nUnderstanding Sensory Stimulation: Explore how outdoor environments naturally stimulate our senses and learn about the consequences of sensory deprivation as well as overload in indoor settings. Recognize the profound impact of sensory experiences on well-being and productivity.\nThe Attention Economy and Indoor Environments: Delve into the concept of attention as the new currency in the 21st century. Examine how modern indoor environments often compete for our attention\, leading to stress and reduced cognitive performance. Understand the implications of designing spaces that support focus and mindfulness.\nHolistic Design Principles: Uncover the principles of holistic design that address all the senses – sound\, light\, smell\, and air quality. Learn how thoughtful automation and technology integration can create environments that adapt to human needs\, delivering a seamless and health-conscious experience.\nCreating Healthy Places: Gain practical insights into designing spaces that prioritize well-being. Explore case studies and best practices for incorporating elements such as circadian lighting and smart air quality solutions. Discover how these strategies can be seamlessly integrated into architectural and interior design\, fostering a healthier and more enriching lifestyle.\n\n  \n$25 for non-members (please bring exact change & give to board member)
URL:https://www.aiawinstonsalem.org/event/lunch-learn-transforming-indoor-environments-into-healthy-places/
LOCATION:Art for Art’s Sake\, 630 N Liberty St\, Winston Salem\, NC\, 27101\, United States
CATEGORIES:AIA Winston-Salem,Lunch & Learn
ATTACH;FMTTYPE=image/png:https://www.aiawinstonsalem.org/wp-content/uploads/2024/02/zaniboni-lighting-logo.png
ORGANIZER;CN="AIA Winston-Salem":MAILTO:president@aiawinstonsalem.org
END:VEVENT
END:VCALENDAR