BEGIN:VCALENDAR
VERSION:2.0
PRODID:-//AIA Winston-Salem - ECPv6.3.1//NONSGML v1.0//EN
CALSCALE:GREGORIAN
METHOD:PUBLISH
X-WR-CALNAME:AIA Winston-Salem
X-ORIGINAL-URL:https://www.aiawinstonsalem.org
X-WR-CALDESC:Events for AIA Winston-Salem
REFRESH-INTERVAL;VALUE=DURATION:PT1H
X-Robots-Tag:noindex
X-PUBLISHED-TTL:PT1H
BEGIN:VTIMEZONE
TZID:America/New_York
BEGIN:DAYLIGHT
TZOFFSETFROM:-0500
TZOFFSETTO:-0400
TZNAME:EDT
DTSTART:20200308T070000
END:DAYLIGHT
BEGIN:STANDARD
TZOFFSETFROM:-0400
TZOFFSETTO:-0500
TZNAME:EST
DTSTART:20201101T060000
END:STANDARD
END:VTIMEZONE
BEGIN:VEVENT
DTSTART;TZID=America/New_York:20200623T120000
DTEND;TZID=America/New_York:20200623T130000
DTSTAMP:20260423T093505
CREATED:20200617T164158Z
LAST-MODIFIED:20200619T132323Z
UID:1014-1592913600-1592917200@www.aiawinstonsalem.org
SUMMARY:AIA WS | June *VIRTUAL* Lunch & Learn
DESCRIPTION:*1 LU (additional GBCI credit for LEED)*\nDavid Weber with EPIC Metals \nCourse Description:  \nThe EPIC Metals Course covers the use of Architecturally aesthetic design solutions for open structure projects ranging from simple canopies to huge airport concourses. EPIC can provide over 70 different profiles of Acoustic and Non-Acoustic Roof and Floor deck\, all intended to provide a finished Architectural ceiling while functioning as a major Structural component of the project. Many types of projects—schools\, gymnasiums\, Natatoriums\, canopies\, transportation facilities\, conference centers\, wellness facilities\, multi-tenant buildings\, perforated architectural screening\, and more are addressed. \nIn addition the course typically describes how EPIC Metals Architectural Roof and Floor Deck Ceiling Systems have been engineered to achieve practical design features that contribute to USGBC LEED certification. These features include: \n\nBuilding Product Disclosure and Optimization\nEnvironmental Product Declarations\nSourcing of Raw Materials\nMaterial Ingredients\nConstruction and Demolition Waste Management\nAcoustic Performance\nInnovation\n\nThe course will also focus on multiple unique shapes and features of deck profiles\, span and structural performance\, basic acoustic theory and performance( NRC Value\, STC Value\, ICC Value)\, access/utility concealment options\, NFPA approved hanging devices\, Building Code Requirements ( U.L. Rating\, FM Rating\, ICC Rating)\,  paint finishes\, indoor/outdoor air control\, curved/arched structural systems\, factory integration of daylighting solutions\, and numerous visual representations of existing projects. \nREGISTER HERE: https://us02web.zoom.us/meeting/register/tZAqf-moqz4iG9VYVkSwm85Bw7YVQSPB-UdP
URL:https://www.aiawinstonsalem.org/event/aia-ws-june-lunch-learn/
CATEGORIES:AIA Winston-Salem,Lunch & Learn,Webinar
ATTACH;FMTTYPE=image/jpeg:https://www.aiawinstonsalem.org/wp-content/uploads/2020/06/Lunch-and-Learn-02.jpg
ORGANIZER;CN="AIA Winston-Salem":MAILTO:president@aiawinstonsalem.org
END:VEVENT
END:VCALENDAR