BEGIN:VCALENDAR
VERSION:2.0
PRODID:-//AIA Winston-Salem - ECPv6.3.1//NONSGML v1.0//EN
CALSCALE:GREGORIAN
METHOD:PUBLISH
X-WR-CALNAME:AIA Winston-Salem
X-ORIGINAL-URL:https://www.aiawinstonsalem.org
X-WR-CALDESC:Events for AIA Winston-Salem
REFRESH-INTERVAL;VALUE=DURATION:PT1H
X-Robots-Tag:noindex
X-PUBLISHED-TTL:PT1H
BEGIN:VTIMEZONE
TZID:America/New_York
BEGIN:DAYLIGHT
TZOFFSETFROM:-0500
TZOFFSETTO:-0400
TZNAME:EDT
DTSTART:20210314T070000
END:DAYLIGHT
BEGIN:STANDARD
TZOFFSETFROM:-0400
TZOFFSETTO:-0500
TZNAME:EST
DTSTART:20211107T060000
END:STANDARD
END:VTIMEZONE
BEGIN:VEVENT
DTSTART;TZID=America/New_York:20210211T110000
DTEND;TZID=America/New_York:20210211T150000
DTSTAMP:20260420T001848
CREATED:20210105T144905Z
LAST-MODIFIED:20210105T144905Z
UID:1129-1613041200-1613055600@www.aiawinstonsalem.org
SUMMARY:NC State College of Design Career Fair
DESCRIPTION:The College of Design is hosting a virtual career fair for employer representatives to meet with our truly exceptional students. The virtual career fair platform with integrated video appointments will allow students to introduce themselves and for employer representatives to discuss their organizations and available career opportunities. \nRegister <here>
URL:https://www.aiawinstonsalem.org/event/nc-state-college-of-design-career-fair/
ATTACH;FMTTYPE=image/png:https://www.aiawinstonsalem.org/wp-content/uploads/2021/01/nc-state-logo.png
END:VEVENT
END:VCALENDAR