BEGIN:VCALENDAR
VERSION:2.0
PRODID:-//AIA Winston-Salem - ECPv6.3.1//NONSGML v1.0//EN
CALSCALE:GREGORIAN
METHOD:PUBLISH
X-ORIGINAL-URL:https://www.aiawinstonsalem.org
X-WR-CALDESC:Events for AIA Winston-Salem
REFRESH-INTERVAL;VALUE=DURATION:PT1H
X-Robots-Tag:noindex
X-PUBLISHED-TTL:PT1H
BEGIN:VTIMEZONE
TZID:America/New_York
BEGIN:DAYLIGHT
TZOFFSETFROM:-0500
TZOFFSETTO:-0400
TZNAME:EDT
DTSTART:20200308T070000
END:DAYLIGHT
BEGIN:STANDARD
TZOFFSETFROM:-0400
TZOFFSETTO:-0500
TZNAME:EST
DTSTART:20201101T060000
END:STANDARD
END:VTIMEZONE
BEGIN:VEVENT
DTSTART;TZID=America/New_York:20200616T140000
DTEND;TZID=America/New_York:20200616T150000
DTSTAMP:20260424T231923
CREATED:20200421T220012Z
LAST-MODIFIED:20200421T220012Z
UID:893-1592316000-1592319600@www.aiawinstonsalem.org
SUMMARY:Fleece Membranes and Urethanes Adhesive
DESCRIPTION:*1 AIA credit*\nPresented by: Austin Kulp \nIn this program the participants will learn about the physical characteristics of the different types of fleece backed single-ply membranes including; EPDM\, TPO\, PVC\, and KEE HP\, as well as gain an understanding of the benefits of the addition of fleece to the membrane. Benefits of two-part urethane adhesive will be discussed including; reducing VOC and adhesive order risks\, product performance\, the different methods of application\, and packaging. We will review case studies on new construction\, reroofing options\, discuss the benefits to the building owner\, as well as the sustainability and durability of this roofing assembly.
URL:https://www.aiawinstonsalem.org/event/fleece-membranes-and-urethanes-adhesive/
CATEGORIES:Webinar
ATTACH;FMTTYPE=image/jpeg:https://www.aiawinstonsalem.org/wp-content/uploads/2020/04/carlisle-construction-materials-logo.jpg
END:VEVENT
END:VCALENDAR