BEGIN:VCALENDAR
VERSION:2.0
PRODID:-//AIA Winston-Salem - ECPv6.3.1//NONSGML v1.0//EN
CALSCALE:GREGORIAN
METHOD:PUBLISH
X-ORIGINAL-URL:https://www.aiawinstonsalem.org
X-WR-CALDESC:Events for AIA Winston-Salem
REFRESH-INTERVAL;VALUE=DURATION:PT1H
X-Robots-Tag:noindex
X-PUBLISHED-TTL:PT1H
BEGIN:VTIMEZONE
TZID:America/New_York
BEGIN:DAYLIGHT
TZOFFSETFROM:-0500
TZOFFSETTO:-0400
TZNAME:EDT
DTSTART:20200308T070000
END:DAYLIGHT
BEGIN:STANDARD
TZOFFSETFROM:-0400
TZOFFSETTO:-0500
TZNAME:EST
DTSTART:20201101T060000
END:STANDARD
END:VTIMEZONE
BEGIN:VEVENT
DTSTART;TZID=America/New_York:20201110T180000
DTEND;TZID=America/New_York:20201110T190000
DTSTAMP:20260423T122859
CREATED:20201110T141618Z
LAST-MODIFIED:20201110T141618Z
UID:1058-1605031200-1605034800@www.aiawinstonsalem.org
SUMMARY:AIAWS | ARE Virtual Roundtable
DESCRIPTION:For many Emerging Professionals on the path to licensure\, the ARE exams can be an imposing obstacle. However\, knowing how to prepare can make a huge difference! For our first exam roundtable\, we will focus on study tools and strategies for the ARE’s. Veronica Grant and Micah Martin are AIAWS board members who have recently become licensed – they will be joining the discussion to share their experiences and answer any questions you might have about the process. We will also review the most recent news from NCARB regarding exam-taking policies and ask for your feedback about how AIA Winston-Salem can best support you on your path to becoming a full-fledged architect.
URL:https://www.aiawinstonsalem.org/event/aiaws-are-virtual-roundtable/
CATEGORIES:AIA Winston-Salem
ATTACH;FMTTYPE=image/png:https://www.aiawinstonsalem.org/wp-content/uploads/2019/04/red-icon.png
ORGANIZER;CN="AIA Winston-Salem":MAILTO:president@aiawinstonsalem.org
END:VEVENT
END:VCALENDAR