BEGIN:VCALENDAR
VERSION:2.0
PRODID:-//AIA Winston-Salem - ECPv6.3.1//NONSGML v1.0//EN
CALSCALE:GREGORIAN
METHOD:PUBLISH
X-ORIGINAL-URL:https://www.aiawinstonsalem.org
X-WR-CALDESC:Events for AIA Winston-Salem
REFRESH-INTERVAL;VALUE=DURATION:PT1H
X-Robots-Tag:noindex
X-PUBLISHED-TTL:PT1H
BEGIN:VTIMEZONE
TZID:America/New_York
BEGIN:DAYLIGHT
TZOFFSETFROM:-0500
TZOFFSETTO:-0400
TZNAME:EDT
DTSTART:20200308T070000
END:DAYLIGHT
BEGIN:STANDARD
TZOFFSETFROM:-0400
TZOFFSETTO:-0500
TZNAME:EST
DTSTART:20201101T060000
END:STANDARD
END:VTIMEZONE
BEGIN:VEVENT
DTSTART;TZID=America/New_York:20201027T120000
DTEND;TZID=America/New_York:20201027T130000
DTSTAMP:20260425T100515
CREATED:20201016T142311Z
LAST-MODIFIED:20201020T125700Z
UID:1049-1603800000-1603803600@www.aiawinstonsalem.org
SUMMARY:AIAWS | October Lunch and Learn
DESCRIPTION:The Cold Hard Truth About What You Are Not Hearing\n\n\n*1 HSW / LU* \nThis seminar will examine the advancement of radiant heat and sound control for today’s construction\, and how it effects the tile and stone industry. Tile and stone have excellent heat conduction qualities\, but not as exceptional for sound abatement. Combining the two can be confusing\, and if not properly addressed. could cause failure in the tile or stone floor. However\, with proper details and specifications\, the combination of in floor heat and sound control could offer a long term\, maintenance free flooring assembly that adds great value to a project. \nLearning Objectives: \n1. Recognize two types of sound control ratings\, Sound Transmission Class (STC) and Impact Insulation Class (IIC).\n2. Distinguish between and IIC rating and a delta IIC contribution.\n3. Identify the components of a floor/ceiling assembly required for effective sound control.\n4. List the characteristics of different sound control materials suitable for use underneath a tiled floor covering.
URL:https://www.aiawinstonsalem.org/event/aiaws-october-lunch-and-learn/
CATEGORIES:AIA Winston-Salem,Lunch & Learn,Webinar
ATTACH;FMTTYPE=image/jpeg:https://www.aiawinstonsalem.org/wp-content/uploads/2020/10/Schluter-Systems-logo.jpg
ORGANIZER;CN="AIA Winston-Salem":MAILTO:president@aiawinstonsalem.org
END:VEVENT
END:VCALENDAR