BEGIN:VCALENDAR
VERSION:2.0
PRODID:-//AIA Winston-Salem - ECPv6.3.1//NONSGML v1.0//EN
CALSCALE:GREGORIAN
METHOD:PUBLISH
X-WR-CALNAME:AIA Winston-Salem
X-ORIGINAL-URL:https://www.aiawinstonsalem.org
X-WR-CALDESC:Events for AIA Winston-Salem
REFRESH-INTERVAL;VALUE=DURATION:PT1H
X-Robots-Tag:noindex
X-PUBLISHED-TTL:PT1H
BEGIN:VTIMEZONE
TZID:America/New_York
BEGIN:DAYLIGHT
TZOFFSETFROM:-0500
TZOFFSETTO:-0400
TZNAME:EDT
DTSTART:20210314T070000
END:DAYLIGHT
BEGIN:STANDARD
TZOFFSETFROM:-0400
TZOFFSETTO:-0500
TZNAME:EST
DTSTART:20211107T060000
END:STANDARD
END:VTIMEZONE
BEGIN:VEVENT
DTSTART;TZID=America/New_York:20210112T120000
DTEND;TZID=America/New_York:20210112T133000
DTSTAMP:20260425T064331
CREATED:20210105T144051Z
LAST-MODIFIED:20210105T144051Z
UID:1126-1610452800-1610458200@www.aiawinstonsalem.org
SUMMARY:January O.W.L.S. | Laticrete
DESCRIPTION:Designing Exterior Installation System for Large Format & Gauged Porcelain Tile and Panels\n*1.5 LU Hours*\nThis presentation will discuss the most important elements of design and important considerations for large format and gauged porcelain tile and panel installations. We will cover what installations materials to use\, what the industry recommends and why\, and then we will spend some time covering the installation process and how to plan for such. We will also touch on the applicable construction codes and the industry standards. \nRegister <here>
URL:https://www.aiawinstonsalem.org/event/january-o-w-l-s-laticrete/
CATEGORIES:O.W.L.S.
ATTACH;FMTTYPE=image/png:https://www.aiawinstonsalem.org/wp-content/uploads/2021/01/laticrete-logo.png
ORGANIZER;CN="AIA North Carolina":MAILTO:info@aianc.org
END:VEVENT
END:VCALENDAR